BEGIN:VCALENDAR
VERSION:2.0
PRODID:-//Newfield//EN
BEGIN:VEVENT
UID:1776852561@theparksdc.com
DTSTAMP:20260422T100921
DTSTART:20260228T000000
DTEND:20260228T000050
SUMMARY:Kids Farm Class
DESCRIPTION:
URL:https://newfieldfl.com/events/kids-farm-class-2/
END:VEVENT
END:VCALENDAR