BEGIN:VCALENDAR
VERSION:2.0
PRODID:-//Newfield//EN
BEGIN:VEVENT
UID:1776847242@theparksdc.com
DTSTAMP:20260422T084042
DTSTART:20260326T000000
DTEND:20260326T000050
SUMMARY:Fireside & Flannel Happy Hour (Resident-Only)
DESCRIPTION:Grab a cozy flannel and join your neighboors for a relaxed outdoor meet-up in Oak Park just for Newfield Residents!
URL:https://newfieldfl.com/events/fireside-flannel-happy-hour-resident-only/
END:VEVENT
END:VCALENDAR