BEGIN:VCALENDAR
VERSION:2.0
PRODID:-//Newfield//EN
BEGIN:VEVENT
UID:1776604348@theparksdc.com
DTSTAMP:20260419T131228
DTSTART:20260416T000000
DTEND:20260416T000050
SUMMARY:New Resident Orientation
DESCRIPTION:The New Resident Orientation at Newfield is where new residents get to know their community, meet their neighbors, and learn everything they need to know to feel at home.
URL:https://newfieldfl.com/events/new-resident-orientation-9/
END:VEVENT
END:VCALENDAR