BEGIN:VCALENDAR
VERSION:2.0
PRODID:-//Newfield//EN
BEGIN:VEVENT
UID:1776847074@theparksdc.com
DTSTAMP:20260422T083754
DTSTART:20261204T000000
DTEND:20261204T000050
SUMMARY:Farm Jam: Deck the Barn Tree Lighting 2026
DESCRIPTION:Get ready for a magical night on the farm as we kick off the holiday season in style!
URL:https://newfieldfl.com/events/farm-jam-deck-the-barn-tree-lighting-2026/
END:VEVENT
END:VCALENDAR