BEGIN:VCALENDAR
VERSION:2.0
PRODID:-//Newfield//EN
BEGIN:VEVENT
UID:1776600393@theparksdc.com
DTSTAMP:20260419T120633
DTSTART:20260520T000000
DTEND:20260420T000050
SUMMARY:Kids Farm Class: World Bee Day
DESCRIPTION:
URL:https://newfieldfl.com/events/kids-farm-class-world-bee-day/
END:VEVENT
END:VCALENDAR