BEGIN:VCALENDAR
VERSION:2.0
PRODID:-//Newfield//EN
BEGIN:VEVENT
UID:1776772911@theparksdc.com
DTSTAMP:20260421T120151
DTSTART:20260523T000000
DTEND:20260523T000050
SUMMARY:Simply Rooted: From Seed to Bloom
DESCRIPTION:
URL:https://newfieldfl.com/events/simply-rooted-from-seed-to-bloom/
END:VEVENT
END:VCALENDAR